BEGIN:VCALENDAR
VERSION:2.0
PRODID:-//Jheronimus Bosch Art Center - ECPv6.15.20//NONSGML v1.0//EN
CALSCALE:GREGORIAN
METHOD:PUBLISH
X-WR-CALNAME:Jheronimus Bosch Art Center
X-ORIGINAL-URL:https://dev.jheronimusbosch-artcenter.nl
X-WR-CALDESC:Evenementen voor Jheronimus Bosch Art Center
REFRESH-INTERVAL;VALUE=DURATION:PT1H
X-Robots-Tag:noindex
X-PUBLISHED-TTL:PT1H
BEGIN:VTIMEZONE
TZID:Europe/Amsterdam
BEGIN:DAYLIGHT
TZOFFSETFROM:+0100
TZOFFSETTO:+0200
TZNAME:CEST
DTSTART:20250330T010000
END:DAYLIGHT
BEGIN:STANDARD
TZOFFSETFROM:+0200
TZOFFSETTO:+0100
TZNAME:CET
DTSTART:20251026T010000
END:STANDARD
BEGIN:DAYLIGHT
TZOFFSETFROM:+0100
TZOFFSETTO:+0200
TZNAME:CEST
DTSTART:20260329T010000
END:DAYLIGHT
BEGIN:STANDARD
TZOFFSETFROM:+0200
TZOFFSETTO:+0100
TZNAME:CET
DTSTART:20261025T010000
END:STANDARD
BEGIN:DAYLIGHT
TZOFFSETFROM:+0100
TZOFFSETTO:+0200
TZNAME:CEST
DTSTART:20270328T010000
END:DAYLIGHT
BEGIN:STANDARD
TZOFFSETFROM:+0200
TZOFFSETTO:+0100
TZNAME:CET
DTSTART:20271031T010000
END:STANDARD
END:VTIMEZONE
BEGIN:VEVENT
DTSTART;VALUE=DATE:20260315
DTEND;VALUE=DATE:20260615
DTSTAMP:20260425T180148
CREATED:20260313T133715Z
LAST-MODIFIED:20260402T134925Z
UID:3744-1773532800-1781481599@dev.jheronimusbosch-artcenter.nl
SUMMARY:Toren van Jheronimus - Wouter van de Koot
DESCRIPTION:‘The Stage’ \nWouter van de Koot (geb. 1978\, Zwolle\, NL) is een hedendaagse schilder die werkzaam is in Antwerpen\, België. In zijn olieverfschilderijen en aquarellen beeldt hij figuren af die bezig lijken te zijn met merkwaardige rituelen. Hij schildert in levendige kleuren en laat delen van de voorstelling open als negatieve ruimte. Zo creëert hij visuele verhalen waarin expressieve figuratie en symbolische vertelkunst samenkomen. De afgebeelde scènes zijn vaak gebaseerd op oude verhalen over macht\, spiritualiteit\, verleiding en onderwerping. \nIn ‘The Stage’ toont Wouter van de Koot een overzicht van diverse series uit de afgelopen vijf jaar\, waarbij elke verdieping van de toren een eigen verhaal vertelt. \nWouter van de Koot heeft onder meer geëxposeerd bij Gallery Vriend van Bavink in Amsterdam\, De Nederlandse Gasunie in Groningen\, Manifest Gallery in Cincinnati en Beamstreet Studio in Antwerpen. Hij werd genomineerd voor de Koninklijke Prijs voor Schilderkunst en won de Buggenhoutprijs voor Tekenen en Grafiek. Hij is docent schilderen aan Kaska DKO in Antwerpen en is ook actief als organisator van tentoonstellingen.
URL:https://dev.jheronimusbosch-artcenter.nl/evenement/de-toren-van-jheronimus/
LOCATION:Jheronimus Bosch Art Center\, Jeroen Boschplein 2\, 's-Hertogenbosch\, Noord-Brabant\, 5211 ML\, Netherlands
CATEGORIES:Tentoonstellingen
ATTACH;FMTTYPE=image/png:https://dev.jheronimusbosch-artcenter.nl/wp-content/uploads/2026/03/Flyer-CTB-8-1024x1024-1.png
ORGANIZER;CN="Jheronimus Bosch Art Center":MAILTO:info@jheronimusbosch-artcenter.nl
END:VEVENT
BEGIN:VEVENT
DTSTART;TZID=Europe/Amsterdam:20260425T210000
DTEND;TZID=Europe/Amsterdam:20260425T230000
DTSTAMP:20260425T180148
CREATED:20260310T195129Z
LAST-MODIFIED:20260324T162909Z
UID:419-1777150800-1777158000@dev.jheronimusbosch-artcenter.nl
SUMMARY:Voorjaarsconcert - BinnenDiezeKoor
DESCRIPTION:Het BinnenDiezeKoor organiseert het Voorjaarsconcert\, gezongen door: \nHet BinnenDiezeKoor\, in 2000 opgericht door schippers van de Binnendieze\, die in de rustige winter-maanden een andere leuke bezigheid zochten. Ze zingen het liefst meerstemmige liederen over ’s-Hertogenbosch en de Binnendieze\, maar het repertoire is uitgebreid met andere Nederlandse en Engelse shanty’s en liederen. \nHet ScheldeLoodsenKoor\, in Nederland het eerste en dus tevens het oudste Shantykoor met het statutaire doel de Sea Songs en Shanties uit de zeilvaart voor het nageslacht te bewaren. Het koor is 27 april 1971 opgericht door Albert Veldkamp die al jaren probeerde zijn collega’s\, in navolging van het Duitse Loodsenkoor ‘Knurrhahn’ uit Kiel\, aan het zingen te krijgen. \nHet Koninklijk ‘s-Hertogenbosch Mannenkoor\, al ruim een eeuw een begrip in de culturele hoofdstad van Brabant. Van klassieke composities tot eigentijdse arrangementen\, dit mannenkoor omarmt een breed scala aan muzikale stijlen. Tot hun repertoire behoren klassiekers als het krachtige ‘Pronte Abbiamo” van Rossini tot en met het ingetogen ‘Tebe Poem” van Bortniansky. En meer recente bewerkingen die ze ten gehore brengen zijn ‘Halleluja’ van Cohen en ‘ La ballade des gens heureux’ van Lenorman. \nEn met pauzeact Het Zingkend Schip. \n  \nAanmelden kan via binnendiezekoor@ziggo.nl. \nDe deuren zijn geopend vanaf 19.00.
URL:https://dev.jheronimusbosch-artcenter.nl/evenement/voorjaarsconcert-binnendiezekoor/
LOCATION:Jheronimus Bosch Art Center\, Jeroen Boschplein 2\, 's-Hertogenbosch\, Noord-Brabant\, 5211 ML\, Netherlands
CATEGORIES:Concerten,Evenementen
ATTACH;FMTTYPE=image/png:https://dev.jheronimusbosch-artcenter.nl/wp-content/uploads/2025/05/Flyer-CTB-9-1024x1024-1.png
ORGANIZER;CN="Jheronimus Bosch Art Center":MAILTO:info@jheronimusbosch-artcenter.nl
END:VEVENT
BEGIN:VEVENT
DTSTART;VALUE=DATE:20260426
DTEND;VALUE=DATE:20260427
DTSTAMP:20260425T180148
CREATED:20260311T161214Z
LAST-MODIFIED:20260415T075119Z
UID:3848-1777161600-1777247999@dev.jheronimusbosch-artcenter.nl
SUMMARY:JBAC gesloten
DESCRIPTION:JBAC gesloten
URL:https://dev.jheronimusbosch-artcenter.nl/evenement/jbac-gesloten/
LOCATION:Noord-Brabant
CATEGORIES:JBAC Gesloten
ATTACH;FMTTYPE=image/jpeg:https://dev.jheronimusbosch-artcenter.nl/wp-content/uploads/2026/03/Header_TuinDerLusten_1920_768_medium_30.jpg
END:VEVENT
BEGIN:VEVENT
DTSTART;TZID=Europe/Amsterdam:20260426T170000
DTEND;TZID=Europe/Amsterdam:20260426T190000
DTSTAMP:20260425T180148
CREATED:20260310T200524Z
LAST-MODIFIED:20260324T162903Z
UID:430-1777222800-1777230000@dev.jheronimusbosch-artcenter.nl
SUMMARY:Vivaldi’s Vier Jaargetijden
DESCRIPTION:Vivaldi’s meesterwerk de Vier Jaargetijden in ‘s-Hertogenbosch! The Bach Orchestra of the Netherlands voert Vivaldi’s beroemde Vier Jaargetijden uit met als solist de Spaanse vioolvirtuoos Enrique Gómez-Cabrero Fernández. \nAria’s voor Rosane Antonio Vivaldi componeerde in zijn opera ‘La verità in cimento’ een aantal aria’s voor de hoofdpersoon: Rosane. Sopraan Olga Zinovieva is met haar bijzondere zangstem en uitstraling als geen ander instaat deze juwelen uit de barokmuziek te vertolken. Daarnaast brengt zij Vivaldi’s hit aria: Sposa son disprezzata! \nVerzeker u snel van tickets voor Vivaldi’s Vier Jaargetijden in ‘s-Hertogenbosch en ontvang vroegboekkorting. Tijdelijk voor €54\,95 ipv € 90\,00
URL:https://dev.jheronimusbosch-artcenter.nl/evenement/vivaldis-vier-jaargetijden/
LOCATION:Jheronimus Bosch Art Center\, Jeroen Boschplein 2\, 's-Hertogenbosch\, Noord-Brabant\, 5211 ML\, Netherlands
CATEGORIES:Concerten,Evenementen
ATTACH;FMTTYPE=image/jpeg:https://dev.jheronimusbosch-artcenter.nl/wp-content/uploads/2025/05/VierJaargetijden24-vierkant-1024x1024-1.jpg
ORGANIZER;CN="Jheronimus Bosch Art Center":MAILTO:info@jheronimusbosch-artcenter.nl
END:VEVENT
BEGIN:VEVENT
DTSTART;VALUE=DATE:20260427
DTEND;VALUE=DATE:20260428
DTSTAMP:20260425T180148
CREATED:20260311T162809Z
LAST-MODIFIED:20260415T075113Z
UID:3855-1777248000-1777334399@dev.jheronimusbosch-artcenter.nl
SUMMARY:Huis van Bosch gesloten\, JBAC geopend
DESCRIPTION:
URL:https://dev.jheronimusbosch-artcenter.nl/evenement/jbac-geopend-huis-van-bosch-gesloten/
LOCATION:Jheronimus Bosch Art Center\, Jeroen Boschplein 2\, 's-Hertogenbosch\, Noord-Brabant\, 5211 ML\, Netherlands
CATEGORIES:JBAC geopend, HVB gesloten
ATTACH;FMTTYPE=image/jpeg:https://dev.jheronimusbosch-artcenter.nl/wp-content/uploads/2026/03/Header_TuinDerLusten_1920_768_medium_30.jpg
END:VEVENT
END:VCALENDAR